BEGIN:VCALENDAR
VERSION:2.0
PRODID:-//Landfrauen Wipshausen - ECPv6.6.2//NONSGML v1.0//EN
CALSCALE:GREGORIAN
METHOD:PUBLISH
X-WR-CALNAME:Landfrauen Wipshausen
X-ORIGINAL-URL:https://www.landfrauen-wipshausen.de
X-WR-CALDESC:Veranstaltungen für Landfrauen Wipshausen
REFRESH-INTERVAL;VALUE=DURATION:PT1H
X-Robots-Tag:noindex
X-PUBLISHED-TTL:PT1H
BEGIN:VTIMEZONE
TZID:Europe/Berlin
BEGIN:DAYLIGHT
TZOFFSETFROM:+0100
TZOFFSETTO:+0200
TZNAME:CEST
DTSTART:20210328T010000
END:DAYLIGHT
BEGIN:STANDARD
TZOFFSETFROM:+0200
TZOFFSETTO:+0100
TZNAME:CET
DTSTART:20211031T010000
END:STANDARD
END:VTIMEZONE
BEGIN:VEVENT
DTSTART;TZID=Europe/Berlin:20210910T150000
DTEND;TZID=Europe/Berlin:20210910T200000
DTSTAMP:20260423T094631
CREATED:20210802T111400Z
LAST-MODIFIED:20210802T181710Z
UID:61-1631286000-1631304000@www.landfrauen-wipshausen.de
SUMMARY:würzige Radtour
DESCRIPTION:Bild von unserer Radtour 2019\n\n\n\nLiebe Landfrauen! Liebe Gäste! \n\n\n\nWir würden uns freuen\, wenn ihr am 10.09.2021 ab 15 Uhr Zeit und Lust habt\, mit uns eine kleine Radtour zu machen. \n\n\n\nWir starten in Wipshausen am Gemeindehaus. Unterwegs gibt es eine würzige Pause mit einem Snack und als Abschluss ein gemeinsames Abendessen im Gemeindehaus Wipshausen. \n\n\n\nFür die Unkosten sammeln wir 10€ ein. Diese decken die Unkosten für den Snack und das Abendessen + Getränke. \n\n\n\nFür die Versorgung unterwegs sorgt jeder selbst und es wird ein Gedeck (Trinkgefäß\, Teller und Besteck) benötigt. Ein wenig Geld für die würzige Pause wäre auch gut 😉 \n\n\n\nBitte melde Dich bis zum 05.09.2021 bei einer unserer Ortsvertreterinnen an. \n\n\n\nViele Grüße \n\n\n\nIris\, Stephanie\, Daniela und Tanja
URL:https://www.landfrauen-wipshausen.de/event/radtour/
LOCATION:Gemeindehaus Wipshausen\, Kirchstraße 3\, Wipshausen\, 31234\, Deutschland
END:VEVENT
END:VCALENDAR