BEGIN:VCALENDAR
VERSION:2.0
PRODID:-//Landfrauen Wipshausen - ECPv6.6.2//NONSGML v1.0//EN
CALSCALE:GREGORIAN
METHOD:PUBLISH
X-WR-CALNAME:Landfrauen Wipshausen
X-ORIGINAL-URL:https://www.landfrauen-wipshausen.de
X-WR-CALDESC:Veranstaltungen für Landfrauen Wipshausen
REFRESH-INTERVAL;VALUE=DURATION:PT1H
X-Robots-Tag:noindex
X-PUBLISHED-TTL:PT1H
BEGIN:VTIMEZONE
TZID:Europe/Berlin
BEGIN:DAYLIGHT
TZOFFSETFROM:+0100
TZOFFSETTO:+0200
TZNAME:CEST
DTSTART:20210328T010000
END:DAYLIGHT
BEGIN:STANDARD
TZOFFSETFROM:+0200
TZOFFSETTO:+0100
TZNAME:CET
DTSTART:20211031T010000
END:STANDARD
END:VTIMEZONE
BEGIN:VEVENT
DTSTART;TZID=Europe/Berlin:20211029T160000
DTEND;TZID=Europe/Berlin:20211029T180000
DTSTAMP:20260423T084323
CREATED:20211027T072203Z
LAST-MODIFIED:20211027T072204Z
UID:540-1635523200-1635530400@www.landfrauen-wipshausen.de
SUMMARY:Einweihung Bücherschrank Wipshausen
DESCRIPTION:Hinter den Kulissen waren fleißige Bienen am Werk und ab sofort gibt es einen Bücherschrank in Wipshausen! Diesen möchten wir zusammen mit Euch enthüllen und einweihen. Dazu treffen wir uns am Freitag\, den 29.10.2021 ab 16 Uhr in der Einfahrt Rathausring 8a .  \n\n\n\nBitte bringt Euren Kaffeebecher und Zeit für ein Stück leckeren Kuchen mit  Wir freuen uns auf euch. \n\n\n\nDa der Bücherschrank mit einer Erstbestückung ausgestattet ist\, lasst eure vollen Bücherkisten am Freitag bitte noch zu Hause. Danach steht einem munteren Tausch aber nichts im Weg.
URL:https://www.landfrauen-wipshausen.de/event/einweihung-buecherschrank-wipshausen/
ATTACH;FMTTYPE=image/jpeg:https://www.landfrauen-wipshausen.de/wp-content/uploads/2021/10/9e2a9bc8-f82d-4772-9a8c-e75f77f6023d.jpg
END:VEVENT
END:VCALENDAR