BEGIN:VCALENDAR
VERSION:2.0
PRODID:-//Landfrauen Wipshausen - ECPv6.6.2//NONSGML v1.0//EN
CALSCALE:GREGORIAN
METHOD:PUBLISH
X-WR-CALNAME:Landfrauen Wipshausen
X-ORIGINAL-URL:https://www.landfrauen-wipshausen.de
X-WR-CALDESC:Veranstaltungen für Landfrauen Wipshausen
REFRESH-INTERVAL;VALUE=DURATION:PT1H
X-Robots-Tag:noindex
X-PUBLISHED-TTL:PT1H
BEGIN:VTIMEZONE
TZID:Europe/Berlin
BEGIN:DAYLIGHT
TZOFFSETFROM:+0100
TZOFFSETTO:+0200
TZNAME:CEST
DTSTART:20220327T010000
END:DAYLIGHT
BEGIN:STANDARD
TZOFFSETFROM:+0200
TZOFFSETTO:+0100
TZNAME:CET
DTSTART:20221030T010000
END:STANDARD
END:VTIMEZONE
BEGIN:VEVENT
DTSTART;TZID=Europe/Berlin:20221211T170000
DTEND;TZID=Europe/Berlin:20221211T173000
DTSTAMP:20260422T165401
CREATED:20221115T122600Z
LAST-MODIFIED:20221115T122653Z
UID:660-1670778000-1670779800@www.landfrauen-wipshausen.de
SUMMARY:lebendiger Advent in Wipshausen
DESCRIPTION:auf dem Schulhof der Grundschule
URL:https://www.landfrauen-wipshausen.de/event/lebendiger-advent-in-wipshausen/
END:VEVENT
END:VCALENDAR