BEGIN:VCALENDAR
VERSION:2.0
PRODID:-//Landfrauen Wipshausen - ECPv6.6.2//NONSGML v1.0//EN
CALSCALE:GREGORIAN
METHOD:PUBLISH
X-WR-CALNAME:Landfrauen Wipshausen
X-ORIGINAL-URL:https://www.landfrauen-wipshausen.de
X-WR-CALDESC:Veranstaltungen für Landfrauen Wipshausen
REFRESH-INTERVAL;VALUE=DURATION:PT1H
X-Robots-Tag:noindex
X-PUBLISHED-TTL:PT1H
BEGIN:VTIMEZONE
TZID:Europe/Berlin
BEGIN:DAYLIGHT
TZOFFSETFROM:+0100
TZOFFSETTO:+0200
TZNAME:CEST
DTSTART:20210328T010000
END:DAYLIGHT
BEGIN:STANDARD
TZOFFSETFROM:+0200
TZOFFSETTO:+0100
TZNAME:CET
DTSTART:20211031T010000
END:STANDARD
END:VTIMEZONE
BEGIN:VEVENT
DTSTART;TZID=Europe/Berlin:20211203T180000
DTEND;TZID=Europe/Berlin:20211203T210000
DTSTAMP:20260423T053121
CREATED:20211102T143155Z
LAST-MODIFIED:20211102T143156Z
UID:557-1638554400-1638565200@www.landfrauen-wipshausen.de
SUMMARY:Weihnachtsfeier Wipshausen
DESCRIPTION:Weihnachtsabend unter strahlenden Sternen \n\n\n\nLiebe Landfrauen\, wir würden Euch sehr gerne am \n\n\n\nam 03. Dezember 2021 um 18 Uhr im DGH (Turnhallenring) begrüßen. \n\n\n\nBei wärmendem Punsch und einer würzigen Suppe werden wir gemeinsam am Feuerkorb stehen.  \n\n\n\nIm Verlauf des Abends werden uns glänzende\, zarte und hell erklingende Töne begleiten. Bei Knabberei und ein paar besinnlichen Liedern können wir gemeinsam die Weihnachtszeit begrüßen. \n\n\n\nBitte zieh Dich dem Wetter entsprechend an und bring Tasse\, Suppenteller und Löffel mit. Einige Sitzgelegenheiten werden wir zur Verfügung stellen. \n\n\n\nAm Abend der Veranstaltung sammeln wir 10€ als Unkostenbeitrag ein (wenn möglich passend mitbringen). \n\n\n\nFür eine bessere Planung melde Dich bitte bis zum 18. November telefonisch\, per E-Mail oder per WhatsApp bei Dani\, Iris\, Stephanie oder Tanja an. \n\n\n\nHerzliche Landfrauen Grüße \n\n\n\n* Es wird die aktuelle Coronaverordnung gelten. Vorgaben werden wir einige Tage vor der Veranstaltung allen angemeldeten Teilnehmern mitteilen. *
URL:https://www.landfrauen-wipshausen.de/event/weihnachtsfeier-wipshausen/
END:VEVENT
END:VCALENDAR