BEGIN:VCALENDAR
VERSION:2.0
PRODID:-//Landfrauen Wipshausen - ECPv6.6.2//NONSGML v1.0//EN
CALSCALE:GREGORIAN
METHOD:PUBLISH
X-WR-CALNAME:Landfrauen Wipshausen
X-ORIGINAL-URL:https://www.landfrauen-wipshausen.de
X-WR-CALDESC:Veranstaltungen für Landfrauen Wipshausen
REFRESH-INTERVAL;VALUE=DURATION:PT1H
X-Robots-Tag:noindex
X-PUBLISHED-TTL:PT1H
BEGIN:VTIMEZONE
TZID:Europe/Berlin
BEGIN:DAYLIGHT
TZOFFSETFROM:+0100
TZOFFSETTO:+0200
TZNAME:CEST
DTSTART:20220327T010000
END:DAYLIGHT
BEGIN:STANDARD
TZOFFSETFROM:+0200
TZOFFSETTO:+0100
TZNAME:CET
DTSTART:20221030T010000
END:STANDARD
END:VTIMEZONE
BEGIN:VEVENT
DTSTART;TZID=Europe/Berlin:20220528T093000
DTEND;TZID=Europe/Berlin:20220528T140000
DTSTAMP:20260422T232918
CREATED:20220330T092849Z
LAST-MODIFIED:20220330T092850Z
UID:607-1653730200-1653746400@www.landfrauen-wipshausen.de
SUMMARY:Kräuterwanderung
DESCRIPTION:Wir treffen uns um 9.15 Uhr an der Kirche und radeln gemeinsam zu Waldhaus im Tardensen.Auf einer kleinen Runde bekommen wir von Susanne Giffhorn Tipps und Tricks zur Bestimmung und Verarbeitung frischer Wildkräuter. Anschließend gibt es eine kleine Verköstigung am Tardensen-Haus geben.Von 10.00 -12.00 Uhr findet unser Programm statt. Danach können wir in aller Ruhe zurückfahren oder nach Lust und Laune noch eine kleine spontane Radtour machen.Anmeldungen bis zum 14.05.2022 bei den Ortsvertreterinnen. Bei großer Nachfrage ist eine zweite Veranstaltung nicht ausgeschlossen.
URL:https://www.landfrauen-wipshausen.de/event/kraeuterwanderung/
LOCATION:Kirche Wipshausen
END:VEVENT
BEGIN:VEVENT
DTSTART;TZID=Europe/Berlin:20220531T170000
DTEND;TZID=Europe/Berlin:20220531T200000
DTSTAMP:20260422T232918
CREATED:20220330T092651Z
LAST-MODIFIED:20220330T092652Z
UID:605-1654016400-1654027200@www.landfrauen-wipshausen.de
SUMMARY:JHV 2022
DESCRIPTION:Nach längerer Pause treffen wir uns zur JHV 2022 im Gemeindesaal der Kirche Wipshausen. \n\n\n\n• Anmeldung bis zum 22.05.2022 bei einer Ortsvertreterin• Bitte einen Teller\, Besteck und ein Glas mitbringenUnkostenbeitrag: 12€
URL:https://www.landfrauen-wipshausen.de/event/jhv-2022/
END:VEVENT
END:VCALENDAR